BEGIN:VCALENDAR
VERSION:2.0
PRODID:-//eventon.com NONSGML v1.0//EN
CALSCALE:GREGORIAN
METHOD:PUBLISH
BEGIN:VEVENT
UID:69e9f48c3a6e0
DTSTAMP:20260423T102932Z
DTSTART:20260718
DTEND:20260719
LOCATION:
SUMMARY:Ausflug & Landeplatz Party bei den Alpingliders Emetten
DESCRIPTION:Wir sind bei den Alpingliders Emetten zu einem gemütlichen zus
 ammen sein eingeladen\,  nähere Infos folgen Bald\nhttps://hcrb.de/index.p
 hp/events/ausflug-landeplatz-party-bei-den-alpingliders-emetten/
URL:https://hcrb.de/index.php/events/ausflug-landeplatz-party-bei-den-alpingliders-emetten/
END:VEVENT
END:VCALENDAR