BEGIN:VCALENDAR
VERSION:2.0
PRODID:-//eventon.com NONSGML v1.0//EN
CALSCALE:GREGORIAN
METHOD:PUBLISH
BEGIN:VEVENT
UID:69e73b519b878
DTSTAMP:20260421T085441Z
DTSTART:20260325T190000Z
DTEND:20260325T213000Z
LOCATION:
SUMMARY:Vortrag von Chris Fromm
DESCRIPTION:Der Delta- und Para-Club Hohwacht freut sich\,  Euch anlässlic
 h unserer &#8222;Thermik-Höcks&#8220; zu ei-nem spannenden Vortrag von Chr
 is Fromm einladen zu dürfen. Das Wetter im Wallis hat seine Tücken. Chris
  Fromm ist „der&#8220; Wallis-Kenner und wird uns hier viel Praxiserfahru
 ng mitbringen. Beim Anlass sind auch Mitglieder von anderen Clubs sowie wei
 tere[..]\nhttps://hcrb.de/index.php/events/vortrag-von-chris-fromm/
URL:https://hcrb.de/index.php/events/vortrag-von-chris-fromm/
END:VEVENT
END:VCALENDAR