BEGIN:VCALENDAR
VERSION:2.0
PRODID:-//eventon.com NONSGML v1.0//EN
CALSCALE:GREGORIAN
METHOD:PUBLISH
BEGIN:VEVENT
UID:69e55b48af718
DTSTAMP:20260419T224632Z
DTSTART:20221202T060000Z
DTEND:20221202T090000Z
LOCATION:
SUMMARY:1. Winterstammtisch 2022 mit dem Thema: Umgang mit Flugunfällen und kritischen Flugzuständen
DESCRIPTION:Wir wollen in dieser Wintersaison diverse Themenabende in Form 
 eines HCRB-Stammtisches anbieten. Natürlich hoffen wir auf reges Interesse
 . Thema 1: Umgang mit Flugunfällen und kritischen Flugzuständen beim Flie
 gen. Lorenz\,  Ufo\,  Daniel\,  Didi und ggf. Sinah können uns hierzu etwa
 s erzählen. (um nur einige zu nennen 🙂 Wir wollen das Ganze[..]\nhttps:
 //hcrb.de/index.php/events/1-winterstammtisch-2022-mit-dem-thema-umgang-mit
 -flugunfaellen-und-kritischen-flugzustaenden/
URL:https://hcrb.de/index.php/events/1-winterstammtisch-2022-mit-dem-thema-umgang-mit-flugunfaellen-und-kritischen-flugzustaenden/
END:VEVENT
END:VCALENDAR