BEGIN:VCALENDAR
VERSION:2.0
PRODID:-//eventon.com NONSGML v1.0//EN
CALSCALE:GREGORIAN
METHOD:PUBLISH
BEGIN:VEVENT
UID:69e7524712c2d
DTSTAMP:20260421T103239Z
DTSTART:20201130
DTEND:20201201
LOCATION:
SUMMARY:Starten nach Corona
DESCRIPTION:Starten nach Corona\nhttps://hcrb.de/index.php/events/starten-n
 ach-corona/
URL:https://hcrb.de/index.php/events/starten-nach-corona/
END:VEVENT
END:VCALENDAR