BEGIN:VCALENDAR
VERSION:2.0
PRODID:-//eventon.com NONSGML v1.0//EN
CALSCALE:GREGORIAN
METHOD:PUBLISH
BEGIN:VEVENT
UID:69e83109ec5f8
DTSTAMP:20260422T022305Z
DTSTART:20220319T030000Z
DTEND:20220319T050000Z
LOCATION:
SUMMARY:HCRB-Fluggebietseinweisung für neumitglieder
DESCRIPTION:=&gt; Treffpunkt 16:00; Parkplatz Landeplatz =&gt; Pflichttermi
 n für Neumitglieder\,  welche am Hochblauen Fliegen wollen Einweisung umfa
 sst u.a.: =&gt; Wetter / Windbediengungen und System am Hochblauen =&gt; gr
 ündliche Landeplatz und Startplatzeinweisung =&gt; Gefahrenstellen Allgeme
 in / Thermik / Wind / CTR-Basel\nhttps://hcrb.de/index.php/events/hcrb-flug
 gebietseinweisung-fuer-neumitglieder/
URL:https://hcrb.de/index.php/events/hcrb-fluggebietseinweisung-fuer-neumitglieder/
END:VEVENT
END:VCALENDAR